BEGIN:VCALENDAR
VERSION:2.0
PRODID:-//LOHS Laker Club - ECPv6.15.20//NONSGML v1.0//EN
CALSCALE:GREGORIAN
METHOD:PUBLISH
X-WR-CALNAME:LOHS Laker Club
X-ORIGINAL-URL:https://lohslaker.club
X-WR-CALDESC:Events for LOHS Laker Club
REFRESH-INTERVAL;VALUE=DURATION:PT1H
X-Robots-Tag:noindex
X-PUBLISHED-TTL:PT1H
BEGIN:VTIMEZONE
TZID:America/Los_Angeles
BEGIN:DAYLIGHT
TZOFFSETFROM:-0800
TZOFFSETTO:-0700
TZNAME:PDT
DTSTART:20240310T100000
END:DAYLIGHT
BEGIN:STANDARD
TZOFFSETFROM:-0700
TZOFFSETTO:-0800
TZNAME:PST
DTSTART:20241103T090000
END:STANDARD
BEGIN:DAYLIGHT
TZOFFSETFROM:-0800
TZOFFSETTO:-0700
TZNAME:PDT
DTSTART:20250309T100000
END:DAYLIGHT
BEGIN:STANDARD
TZOFFSETFROM:-0700
TZOFFSETTO:-0800
TZNAME:PST
DTSTART:20251102T090000
END:STANDARD
BEGIN:DAYLIGHT
TZOFFSETFROM:-0800
TZOFFSETTO:-0700
TZNAME:PDT
DTSTART:20260308T100000
END:DAYLIGHT
BEGIN:STANDARD
TZOFFSETFROM:-0700
TZOFFSETTO:-0800
TZNAME:PST
DTSTART:20261101T090000
END:STANDARD
END:VTIMEZONE
BEGIN:VEVENT
DTSTART;TZID=America/Los_Angeles:20251009T121500
DTEND;TZID=America/Los_Angeles:20251009T141500
DTSTAMP:20260419T095310
CREATED:20251003T183809Z
LAST-MODIFIED:20260116T191011Z
UID:1667-1760012100-1760019300@lohslaker.club
SUMMARY:Laker Parent Club Homecoming Parade Opportunity!
DESCRIPTION:Laker Parent Club Homecoming Parade Opportunity! \nLadies\, please join us for our Annual Mom’s Homecoming Tea and Tailgate as we celebrate Lake Oswego High School’s 2025 Homecoming and raise money for Laker Club. Come ready to have fun\, connect with other LOHS moms\, enjoy a light lunch and raise a glass to a new year! Don’t forget to wear your NAVY and WHITE! \nWhen: Thursday\, October 9 from 12:15-2:15 pm. We will grab a pom-pom and head to the high school where we will cheer on the annual homecoming parade from a reserved section in the LOHS parking lot! \nWhere: Private home. Address will be sent along with your ticket purchase. Please carpool if you can\, or park in the church parking lot across the street. \nCost: $75 (100% of ticket price is donated to Laker Club\, and tickets are non-refundable) \nWho: Moms of LOHS / 50 spots available \nWe have about 10 or 12 spots left and would love for you to join to have a good time and help raise funds for the Laker Club! (Majority of the funds raids get granted back to our amazing teachers for various classroom support needs). \nLink for Tickets: https://givebutter.com/HoCoTea2025 \nQuestions: Contact Lauren Odman\, l_odman@yahoo.com \nPLEASE NOTE: This popular event is reserved for moms of LOHS. While we would love to open it up to other friends and family\, space is limited and we want as many moms of LOHS students to be able to attend as possible. Thank you for understanding!
URL:https://lohslaker.club/event/laker-parent-club-homecoming-parade-opportunity/
CATEGORIES:Event
END:VEVENT
BEGIN:VEVENT
DTSTART;TZID=America/Los_Angeles:20250604T213000
DTEND;TZID=America/Los_Angeles:20250605T033000
DTSTAMP:20260419T095310
CREATED:20250119T172216Z
LAST-MODIFIED:20251011T201132Z
UID:1318-1749072600-1749094200@lohslaker.club
SUMMARY:Senior Grad Party
DESCRIPTION:[vc_row css=”.vc_custom_1736723322869{background-color: #FFFFFF !important;border-radius: 5px !important;}”][vc_column][vc_column_text css=””]Laker Club is excited to announce that Senior Grad Party are now available for purchase. \n\nWe are extending 3/1 discounted ticket price at $95 until Friday\, March 14th. \nAfter 3/14\, $125 per ticket. \n\nLearn more \n[/vc_column_text][/vc_column][/vc_row][vc_row css=”.vc_custom_1731205358983{padding-bottom: 35px !important;background-color: #EEEEEE !important;}”][vc_column width=”1/2″][vc_column_text css=”.vc_custom_1731963557390{margin-right: 10px !important;margin-left: 10px !important;}”] \nSupport Our Teachers\nScan the QR code to visit the donation page or click the link below.\n[/vc_column_text][vc_btn title=”Click here to donate” color=”white” align=”center” css=”” link=”url:https%3A%2F%2Fgivebutter.com%2FLakerClubDirectAsk|target:_blank|rel:nofollow” el_id=”button-blue”][vc_single_image image=”32″ alignment=”center” style=”vc_box_rounded” css=”.vc_custom_1729449012392{border-color: #FFFFFF !important;}”][/vc_column][vc_column width=”1/2″][vc_single_image image=”931″ img_size=”large” alignment=”center” style=”vc_box_rounded” onclick=”custom_link” img_link_target=”_blank” css=”.vc_custom_1731963498037{border-radius: 5px !important;border-color: #FFFFFF !important;}” link=”https://givebutter.com/LakerClubDirectAsk”][/vc_column][/vc_row]
URL:https://lohslaker.club/event/senior-grad-party/
CATEGORIES:Event
ATTACH;FMTTYPE=image/jpeg:https://lohslaker.club/wp-content/uploads/LOHS-GradParty_2025banner_tickets.jpg
END:VEVENT
END:VCALENDAR